BEGIN:VCALENDAR
VERSION:2.0
PRODID:-//hacksw/handcal//NONSGML v1.0//EN
BEGIN:VEVENT
DTSTART:20250313T180000
DTEND:20250313T190000
LOCATION:Collège de France \nSite Marcelin Berthelot
ORGANIZER;CN=admin:MAILTO:admin@alumnforce.com
SUMMARY:Leçon inaugurale - Collège de France - Thierry Coquand
DESCRIPTION:"La théorie de types, de Russel aux assistants à la démonstration"Leçon inaugurale de Thierry Coquand, professeur en informatique, Université de Götebord, Suède, et professeur invité sur la chaire...
URL:https://www.inria-alumni.fr/fr/event/lecon-inaugurale-college-de-france-thierry-coquand/2025/03/13/49
BEGIN:VALARM
TRIGGER:-P0DT1H0M0S
ACTION:DISPLAY
END:VALARM
END:VEVENT
END:VCALENDAR